BEGIN:VCALENDAR
VERSION:2.0
PRODID:xn--grne-maisach-elb.de
METHOD:PUBLISH
BEGIN:VTIMEZONE
TZID:Europe/Berlin
X-LIC-LOCATION:Europe/Berlin
BEGIN:DAYLIGHT
TZOFFSETFROM:+0100
TZOFFSETTO:+0200
TZNAME:CEST
DTSTART:19700329T020000
RRULE:FREQ=YEARLY;INTERVAL=1;BYDAY=-1SU;BYMONTH=3
END:DAYLIGHT
BEGIN:STANDARD
TZOFFSETFROM:+0200
TZOFFSETTO:+0100
TZNAME:CET
DTSTART:19701025T030000
RRULE:FREQ=YEARLY;INTERVAL=1;BYDAY=-1SU;BYMONTH=10
END:STANDARD
END:VTIMEZONE
BEGIN:VEVENT
UID:08d3a19a290e520a537c06eb63939cde@xn--grne-maisach-elb.de
URL;VALUE=URI:https://xn--grne-maisach-elb.de/termine/frauencafe-des-grue
 nen-kreisverbandes-fuetstenfeldbruck/
LOCATION:Cafe am Gröbenbach, Olchinger Straße 149, Gröbenzell
SUMMARY:Frauencafé des Grünen Kreisverbandes Fütstenfeldbruck
DESCRIPTION;ALTREP="data:text/html,%0A%3Cp%3ELiebe%20Freundinnen%2C%3Cbr%
 3EWir%20vom%20KV%20wollen%20euch%20zu%20einem%20Frauencafe%20am%26nbsp%3B
 13.03.22%26nbsp%3Beinladen.%20Dieses%20Frauencafe%20dient%20zum%20Kennenl
 ernen%20und%20Austausch%20in%20diesen%20Zeit%20die%20einen%20Austausch%20
 ben%C3%B6tigen.%3Cbr%3EWir%20w%C3%BCrden%20uns%20freuen%20Euch%20alle%20i
 m%26nbsp%3B%3Cbr%3ECaf%C3%A9%20am%20Gr%C3%B6benbach%26nbsp%3B%3C%2Fp%3E%0
 A":Liebe Freundinnen\,Wir vom KV wollen euch zu einem Frauencafe am 13.0
 3.22 einladen. Dieses Frauencafe dient zum Kennenlernen und Austausch in
  diesen Zeit die einen Austausch benötigen.Wir würden uns freuen Euch a
 lle im Café am Gröbenbach 
CLASS:PUBLIC
DTSTART;TZID=Europe/Berlin:20220313T103000
DTEND;TZID=Europe/Berlin:20220313T113000
DTSTAMP:20260424T210500
END:VEVENT
END:VCALENDAR