BEGIN:VCALENDAR
VERSION:2.0
PRODID:xn--grne-maisach-elb.de
METHOD:PUBLISH
BEGIN:VTIMEZONE
TZID:Europe/Berlin
X-LIC-LOCATION:Europe/Berlin
BEGIN:DAYLIGHT
TZOFFSETFROM:+0100
TZOFFSETTO:+0200
TZNAME:CEST
DTSTART:19700329T020000
RRULE:FREQ=YEARLY;INTERVAL=1;BYDAY=-1SU;BYMONTH=3
END:DAYLIGHT
BEGIN:STANDARD
TZOFFSETFROM:+0200
TZOFFSETTO:+0100
TZNAME:CET
DTSTART:19701025T030000
RRULE:FREQ=YEARLY;INTERVAL=1;BYDAY=-1SU;BYMONTH=10
END:STANDARD
END:VTIMEZONE
BEGIN:VEVENT
UID:217dc7c6936612281458fdbd3ed2e8e2@xn--grne-maisach-elb.de
URL;VALUE=URI:https://xn--grne-maisach-elb.de/termine/gruener-stammtisch-
 11/
LOCATION:Piazza Uno, Max-Rappenglitz-Ring 1, Maisach-Gernlinden
SUMMARY:Grüner Stammtisch
DESCRIPTION;ALTREP="data:text/html,%0A%3Cp%3EViele%20Menschen%20sind%20be
 unruhigt%20wegen%20der%20politischen%20Entwicklung%20in%20unserem%20Land%
 20und%20der%20Welt.%20Und%20viele%20Meschen%20haben%20das%20Bed%C3%BCrfni
 s%2C%20jetzt%20Stellung%20zu%20beziehen%20-%20Partei%20zu%20ergreifen.%20
 Eine%20gute%20M%C3%B6glichkeit%20mit%20uns%20in%20Kontakt%20zu%20kommen%2
 C%20sind%20unsere%20monatlichen%20Stammtische.%20Interessenten%20k%C3%B6n
 nen%20jederzeit%20einfach%20dazu%20kommen.%20Wer%20vorher%20lieber%20Kont
 akt%20aufnehmen%20will%2C%20kann%20das%20unter%20info%40gruene-maisach.de
 %20tun.%20Wir%20freuen%20uns%21%3C%2Fp%3E%0A%0A%0A%0A%3Cp%3E%3C%2Fp%3E%0A
 ":Viele Menschen sind beunruhigt wegen der politischen Entwicklung in uns
 erem Land und der Welt. Und viele Meschen haben das Bedürfnis\, jetzt St
 ellung zu beziehen - Partei zu ergreifen. Eine gute Möglichkeit mit uns 
 in Kontakt zu kommen\, sind unsere monatlichen Stammtische. Interessenten
  können jederzeit einfach dazu kommen. Wer vorher lieber Kontakt aufnehm
 en will\, kann das unter info@gruene-maisach.de tun. Wir freuen uns!
CLASS:PUBLIC
DTSTART;TZID=Europe/Berlin:20250130T193000
DTEND;TZID=Europe/Berlin:20250130T203000
DTSTAMP:20260420T204942
END:VEVENT
END:VCALENDAR