BEGIN:VCALENDAR
VERSION:2.0
PRODID:xn--grne-maisach-elb.de
METHOD:PUBLISH
BEGIN:VTIMEZONE
TZID:Europe/Berlin
X-LIC-LOCATION:Europe/Berlin
BEGIN:DAYLIGHT
TZOFFSETFROM:+0100
TZOFFSETTO:+0200
TZNAME:CEST
DTSTART:19700329T020000
RRULE:FREQ=YEARLY;INTERVAL=1;BYDAY=-1SU;BYMONTH=3
END:DAYLIGHT
BEGIN:STANDARD
TZOFFSETFROM:+0200
TZOFFSETTO:+0100
TZNAME:CET
DTSTART:19701025T030000
RRULE:FREQ=YEARLY;INTERVAL=1;BYDAY=-1SU;BYMONTH=10
END:STANDARD
END:VTIMEZONE
BEGIN:VEVENT
UID:6ef113ee6048e036b34b9a67f6559dc0@xn--grne-maisach-elb.de
URL;VALUE=URI:https://xn--grne-maisach-elb.de/termine/gruener-stammtisch-
 ov-maisach-2-2/
LOCATION:Piazza Uno, Max-Rappenglitz-Ring 1, Maisach
SUMMARY:Grüner Stammtisch, OV Maisach
DESCRIPTION;ALTREP="data:text/html,%0A%3Cp%3EInteressierte%20und%20m%C3%B
 6gliche%20zuk%C3%BCnftige%20Mitglieder%20sind%20herzlich%20eingeladen%2C%
 20vorbeizuschauen%20und%20mit%20uns%20zu%20diskutieren.%3Cbr%3E%3Cbr%3EWi
 r%20freuen%20uns%20auf%20euch%21%3C%2Fp%3E%0A%0A%0A%0A%3Cp%3E%3C%2Fp%3E%0
 A":Interessierte und mögliche zukünftige Mitglieder sind herzlich einge
 laden\, vorbeizuschauen und mit uns zu diskutieren.Wir freuen uns auf euc
 h!
CLASS:PUBLIC
DTSTART;TZID=Europe/Berlin:20260528T193000
DTEND;TZID=Europe/Berlin:20260528T213000
DTSTAMP:20260425T151725
END:VEVENT
END:VCALENDAR