BEGIN:VCALENDAR
VERSION:2.0
PRODID:xn--grne-maisach-elb.de
METHOD:PUBLISH
BEGIN:VTIMEZONE
TZID:Europe/Berlin
X-LIC-LOCATION:Europe/Berlin
BEGIN:DAYLIGHT
TZOFFSETFROM:+0100
TZOFFSETTO:+0200
TZNAME:CEST
DTSTART:19700329T020000
RRULE:FREQ=YEARLY;INTERVAL=1;BYDAY=-1SU;BYMONTH=3
END:DAYLIGHT
BEGIN:STANDARD
TZOFFSETFROM:+0200
TZOFFSETTO:+0100
TZNAME:CET
DTSTART:19701025T030000
RRULE:FREQ=YEARLY;INTERVAL=1;BYDAY=-1SU;BYMONTH=10
END:STANDARD
END:VTIMEZONE
BEGIN:VEVENT
UID:8ee2a70733ab79e5b56adc34399ada49@xn--grne-maisach-elb.de
URL;VALUE=URI:https://xn--grne-maisach-elb.de/termine/kreismitgliedervers
 ammlung/
LOCATION:Bürgerhaus Emmering, Lauscherwörth 5, 82275 Emmering
SUMMARY:Kreismitgliederversammlung
DESCRIPTION;ALTREP="data:text/html,":
CLASS:PUBLIC
DTSTART;TZID=Europe/Berlin:20240924T193000
DTEND;TZID=Europe/Berlin:20240924T223000
DTSTAMP:20260419T202551
END:VEVENT
END:VCALENDAR