BEGIN:VCALENDAR
VERSION:2.0
PRODID:xn--grne-maisach-elb.de
METHOD:PUBLISH
BEGIN:VTIMEZONE
TZID:Europe/Berlin
X-LIC-LOCATION:Europe/Berlin
BEGIN:DAYLIGHT
TZOFFSETFROM:+0100
TZOFFSETTO:+0200
TZNAME:CEST
DTSTART:19700329T020000
RRULE:FREQ=YEARLY;INTERVAL=1;BYDAY=-1SU;BYMONTH=3
END:DAYLIGHT
BEGIN:STANDARD
TZOFFSETFROM:+0200
TZOFFSETTO:+0100
TZNAME:CET
DTSTART:19701025T030000
RRULE:FREQ=YEARLY;INTERVAL=1;BYDAY=-1SU;BYMONTH=10
END:STANDARD
END:VTIMEZONE
BEGIN:VEVENT
UID:95818e34d5f36e5a7fa73b9fe2f9620b@xn--grne-maisach-elb.de
URL;VALUE=URI:https://xn--grne-maisach-elb.de/termine/kreismitgliedervers
 ammlung-2/
LOCATION:Dein Raum, Pucherstr. 3, Fürstenfeldbruck
SUMMARY:Kreismitgliederversammlung
DESCRIPTION;ALTREP="data:text/html,%0A%3Cp%3EDer%20Kreisverband%20l%C3%A4
 dt%20zur%20Mitgliederversammlung%21%20%3C%2Fp%3E%0A%0A%0A%0A%3Cp%3EWir%20
 freuen%20uns%20auf%20zahlreiches%20Erscheinen%21%3C%2Fp%3E%0A":Der Kreisv
 erband lädt zur Mitgliederversammlung!\n\nWir freuen uns auf zahlreiches
  Erscheinen!
CLASS:PUBLIC
DTSTART;TZID=Europe/Berlin:20260624T190000
DTEND;TZID=Europe/Berlin:20260624T220000
DTSTAMP:20260421T112952
END:VEVENT
END:VCALENDAR