BEGIN:VCALENDAR
VERSION:2.0
PRODID:xn--grne-maisach-elb.de
METHOD:PUBLISH
BEGIN:VTIMEZONE
TZID:Europe/Berlin
X-LIC-LOCATION:Europe/Berlin
BEGIN:DAYLIGHT
TZOFFSETFROM:+0100
TZOFFSETTO:+0200
TZNAME:CEST
DTSTART:19700329T020000
RRULE:FREQ=YEARLY;INTERVAL=1;BYDAY=-1SU;BYMONTH=3
END:DAYLIGHT
BEGIN:STANDARD
TZOFFSETFROM:+0200
TZOFFSETTO:+0100
TZNAME:CET
DTSTART:19701025T030000
RRULE:FREQ=YEARLY;INTERVAL=1;BYDAY=-1SU;BYMONTH=10
END:STANDARD
END:VTIMEZONE
BEGIN:VEVENT
UID:5734bb2c0bc223496768441f2a2b2780@xn--grne-maisach-elb.de
URL;VALUE=URI:https://xn--grne-maisach-elb.de/termine/wie-finanzieren-wir
 -unsere-zukunft/
LOCATION:Bürgerzentrum Gernlinden, Brucker Straße 2, 82216 Maisach-Gern
 linden
SUMMARY:Wie finanzieren wir unsere Zukunft?
DESCRIPTION;ALTREP="data:text/html,%0A%3Cdiv%20class%3D%22wp-block-stacka
 ble-text%20stk-block-text%20stk-block%20stk-deb153e%22%20data-block-id%3D
 %22deb153e%22%3E%3Cp%20class%3D%22stk-block-text__text%22%3EWir%20laden%2
 0ein%20zu%20der%20%C3%B6ffentlichen%20Diskussionsveranstaltung%20mit%20de
 m%20stellvertretenden%20Fraktionsvorsitzenden%20von%20B%C3%9CNDNIS%2090%2
 0%2F%20DIE%20GR%C3%9CNEN%20im%20Bayerischen%20Landtag%2C%20%3Cspan%20styl
 e%3D%22color%3A%20%23020202%22%20class%3D%22stk-highlight%22%3EJohannes%2
 0Becher%2C%3C%2Fspan%3E%20und%20unserer%20Bundestagskandidatin%20f%C3%BCr
 %20den%20Wahlkreis%20Dachau%20%2F%20F%C3%BCrstenfeldbruck%2C%20Britta%20J
 acob.%3C%2Fp%3E%3C%2Fdiv%3E%0A%0A%0A%0A%3Cp%3EJohannes%20Becher%20wird%20
 in%20seinem%20Vortrag%20einen%20detaillierten%20Blick%20auf%20die%20kommu
 nalen%20Finanzen%20und%20den%20Bayerischen%20Staatshaushalt%20werfen.%20B
 ritta%20Jacob%20wird%20sich%20in%20ihrem%20Beitrag%20mit%20den%20Bundesfi
 nanzen%20und%20der%20aktuellen%20Debatte%20um%20eine%20Reform%20der%20Sch
 uldenbremse%20auseinandersetzen.%3C%2Fp%3E%0A%0A%0A%0A%3Cp%3EMit%20dieser
 %20Veranstaltung%20m%C3%B6chten%20wir%20den%20B%C3%BCrgerinnen%20und%20B%
 C3%BCrgern%20die%20M%C3%B6glichkeit%20geben%2C%20sich%20umfassend%20%C3%B
 Cber%20die%20finanziellen%20Herausforderungen%20und%20aktuelle%20L%C3%B6s
 ungsans%C3%A4tze%20auf%20kommunaler%2C%20Landes-%20und%20Bundesebene%20zu
 %20informieren%20und%20mit%20den%20Referenten%20zu%20diskutieren.%3C%2Fp%
 3E%0A%0A%0A%0A%3Cdiv%20class%3D%22wp-block-stackable-icon-label%20stk-blo
 ck-icon-label%20stk-block%20stk-d5d3b11%22%20data-block-id%3D%22d5d3b11%2
 2%3E%3Cdiv%20class%3D%22stk-row%20stk-inner-blocks%20stk-block-content%22
 %3E%0A%3Cdiv%20class%3D%22wp-block-stackable-icon%20stk-block-icon%20has-
 text-align-left%20stk-block%20stk-3fd8c13%22%20data-block-id%3D%223fd8c13
 %22%3E%3Ca%20class%3D%22stk-link%22%20href%3D%22https%3A%2F%2Fyoutube.com
 %2Flive%2FJ2G_abVCFi4%3Ffeature%3Dshare%22%20target%3D%22_blank%22%20rel%
 3D%22noreferrer%20noopener%22%3E%3Cspan%20class%3D%22stk--svg-wrapper%22%
 3E%3Cdiv%20class%3D%22stk--inner-svg%22%3E%3Csvg%20style%3D%22height%3A0%
 3Bwidth%3A0%22%3E%3C%2Fsvg%3E%3Csvg%20xmlns%3D%22http%3A%2F%2Fwww.w3.org%
 2F2000%2Fsvg%22%20viewBox%3D%220%200%20576%20512%22%20aria-hidden%3D%22tr
 ue%22%20width%3D%2232%22%20height%3D%2232%22%3E%3Cpath%20d%3D%22M549.655%
 20124.083c-6.281-23.65-24.787-42.276-48.284-48.597C458.781%2064%20288%206
 4%20288%2064S117.22%2064%2074.629%2075.486c-23.497%206.322-42.003%2024.94
 7-48.284%2048.597-11.412%2042.867-11.412%20132.305-11.412%20132.305s0%208
 9.438%2011.412%20132.305c6.281%2023.65%2024.787%2041.5%2048.284%2047.821C
 117.22%20448%20288%20448%20288%20448s170.78%200%20213.371-11.486c23.497-6
 .321%2042.003-24.171%2048.284-47.821%2011.412-42.867%2011.412-132.305%201
 1.412-132.305s0-89.438-11.412-132.305zm-317.51%20213.508V175.185l142.739%
 2081.205-142.739%2081.201z%22%3E%3C%2Fpath%3E%3C%2Fsvg%3E%3C%2Fdiv%3E%3C%
 2Fspan%3E%3C%2Fa%3E%3C%2Fdiv%3E%0A%0A%0A%0A%3Cdiv%20class%3D%22wp-block-s
 tackable-heading%20stk-block-heading%20stk-block-heading--v2%20stk-block%
 20stk-1b64ee7%22%20id%3D%22span-style-color-ff-3232-class-stk-highlight-l
 ivestream-span%22%20data-block-id%3D%221b64ee7%22%3E%3Ch4%20class%3D%22st
 k-block-heading__text%20has-text-align-center%22%3E%3Cspan%20style%3D%22c
 olor%3A%20%23ff3232%22%20class%3D%22stk-highlight%22%3ELIVESTREAM%3C%2Fsp
 an%3E%3C%2Fh4%3E%3C%2Fdiv%3E%0A%3C%2Fdiv%3E%3C%2Fdiv%3E%0A":Wir laden ein
  zu der öffentlichen Diskussionsveranstaltung mit dem stellvertretenden 
 Fraktionsvorsitzenden von BÜNDNIS 90 / DIE GRÜNEN im Bayerischen Landta
 g\, Johannes Becher\, und unserer Bundestagskandidatin für den Wahlkreis
  Dachau / Fürstenfeldbruck\, Britta Jacob.\n\nJohannes Becher wird in se
 inem Vortrag einen detaillierten Blick auf die kommunalen Finanzen und de
 n Bayerischen Staatshaushalt werfen. Britta Jacob wird sich in ihrem Beit
 rag mit den Bundesfinanzen und der aktuellen Debatte um eine Reform der S
 chuldenbremse auseinandersetzen.\n\nMit dieser Veranstaltung möchten wir
  den Bürgerinnen und Bürgern die Möglichkeit geben\, sich umfassend ü
 ber die finanziellen Herausforderungen und aktuelle Lösungsansätze auf 
 kommunaler\, Landes- und Bundesebene zu informieren und mit den Referente
 n zu diskutieren.\n\nLIVESTREAM
CLASS:PUBLIC
DTSTART;TZID=Europe/Berlin:20250123T190000
DTEND;TZID=Europe/Berlin:20250123T200000
DTSTAMP:20260425T225648
END:VEVENT
END:VCALENDAR